BEGIN:VCALENDAR
VERSION:2.0
PRODID:-//Mallorca Sunshine Radio - ECPv6.15.20//NONSGML v1.0//EN
CALSCALE:GREGORIAN
METHOD:PUBLISH
X-WR-CALNAME:Mallorca Sunshine Radio
X-ORIGINAL-URL:https://www.mallorcasunshineradio.com
X-WR-CALDESC:Events for Mallorca Sunshine Radio
REFRESH-INTERVAL;VALUE=DURATION:PT1H
X-Robots-Tag:noindex
X-PUBLISHED-TTL:PT1H
BEGIN:VTIMEZONE
TZID:Europe/Madrid
BEGIN:DAYLIGHT
TZOFFSETFROM:+0100
TZOFFSETTO:+0200
TZNAME:CEST
DTSTART:20240331T010000
END:DAYLIGHT
BEGIN:STANDARD
TZOFFSETFROM:+0200
TZOFFSETTO:+0100
TZNAME:CET
DTSTART:20241027T010000
END:STANDARD
BEGIN:DAYLIGHT
TZOFFSETFROM:+0100
TZOFFSETTO:+0200
TZNAME:CEST
DTSTART:20250330T010000
END:DAYLIGHT
BEGIN:STANDARD
TZOFFSETFROM:+0200
TZOFFSETTO:+0100
TZNAME:CET
DTSTART:20251026T010000
END:STANDARD
BEGIN:DAYLIGHT
TZOFFSETFROM:+0100
TZOFFSETTO:+0200
TZNAME:CEST
DTSTART:20260329T010000
END:DAYLIGHT
BEGIN:STANDARD
TZOFFSETFROM:+0200
TZOFFSETTO:+0100
TZNAME:CET
DTSTART:20261025T010000
END:STANDARD
BEGIN:DAYLIGHT
TZOFFSETFROM:+0100
TZOFFSETTO:+0200
TZNAME:CEST
DTSTART:20270328T010000
END:DAYLIGHT
BEGIN:STANDARD
TZOFFSETFROM:+0200
TZOFFSETTO:+0100
TZNAME:CET
DTSTART:20271031T010000
END:STANDARD
END:VTIMEZONE
BEGIN:VEVENT
DTSTART;TZID=Europe/Madrid:20260208T190000
DTEND;TZID=Europe/Madrid:20260208T190000
DTSTAMP:20260424T215444
CREATED:20260104T204043Z
LAST-MODIFIED:20260104T204043Z
UID:16137-1770577200-1770577200@www.mallorcasunshineradio.com
SUMMARY:The Best of Soul Show at Auditorium Palma
DESCRIPTION:Soul comes to Palma with “The Best of Soul” at the Auditorium Palma. The show brings a New York atmosphere to the island\, featuring five vocalists and a live band performing classic soul songs. \nThe repertoire includes well-known titles by Ben E. King\, Michael Bolton and James Brown\, presented in a concert format at the waterfront auditorium. \nImage credit: auditoriumpalma.com
URL:https://www.mallorcasunshineradio.com/event/the-best-of-soul-show-at-auditorium-palma/
LOCATION:Auditorium Palma\, Auditorium de Palma de Mallorca. Av. de Gabriel Roca\, 18\, Palma\, Illes Balears\, 07014\, Spain
CATEGORIES:Concert,Music,Soul
ATTACH;FMTTYPE=image/jpeg:https://www.mallorcasunshineradio.com/wp-content/uploads/espectaculo-4152-imagen-cabecera-1.jpg
ORGANIZER;CN="Auditorium Palma de Mallorca":MAILTO:info@auditoriumpalma.com
END:VEVENT
BEGIN:VEVENT
DTSTART;TZID=Europe/Madrid:20260205T220000
DTEND;TZID=Europe/Madrid:20260205T220000
DTSTAMP:20260424T215444
CREATED:20260203T223440Z
LAST-MODIFIED:20260203T223440Z
UID:16372-1770328800-1770328800@www.mallorcasunshineradio.com
SUMMARY:Jazz and Soul Show at the Blue Jazz Club
DESCRIPTION:A jazz and soul show by the Mallorcan band Kool Vibes at the Blue Jazz Club in Palma. \nThe evening features soul and jazz performed live in a club setting. \nImage credit: hotelsaratoga.com
URL:https://www.mallorcasunshineradio.com/event/jazz-soul-show-blue-jazz-club-palma/
LOCATION:Blue Jazz Club\, Blue Jazz Club. Paseo Mallorca 6\, Palma\, Illes Balears\, 07012\, Spain
CATEGORIES:Jazz,Live Music,Soul
ATTACH;FMTTYPE=image/webp:https://www.mallorcasunshineradio.com/wp-content/uploads/Blue_Jazz_Club.webp
END:VEVENT
BEGIN:VEVENT
DTSTART;TZID=Europe/Madrid:20251129T235900
DTEND;TZID=Europe/Madrid:20251129T235900
DTSTAMP:20260424T215444
CREATED:20251127T131351Z
LAST-MODIFIED:20251127T131351Z
UID:15495-1764460740-1764460740@www.mallorcasunshineradio.com
SUMMARY:The Claps Live
DESCRIPTION:The Claps bring a lively mix of rock and soul classics from the 60s and 70s\, with music made for dancing and a chance to drift back to the sounds of your youth. The band returns to Palma for a late-night show full of rhythm\, energy\, and feel-good nostalgia. \nImage: shamrockpalma.com
URL:https://www.mallorcasunshineradio.com/event/the-claps-live-palma/
LOCATION:Shamrock Palma\, Shamrock Palma. Av. de Gabriel Roca\, 3\, Ponent\, Palma\, Illes Balears\, 07014\, Spain
CATEGORIES:Live Music,Rock,Soul
ATTACH;FMTTYPE=image/webp:https://www.mallorcasunshineradio.com/wp-content/uploads/the-claps-1.jpg.webp
END:VEVENT
BEGIN:VEVENT
DTSTART;TZID=Europe/Madrid:20251117T235500
DTEND;TZID=Europe/Madrid:20251117T235500
DTSTAMP:20260424T215444
CREATED:20251114T160610Z
LAST-MODIFIED:20251114T160610Z
UID:15336-1763423700-1763423700@www.mallorcasunshineradio.com
SUMMARY:Live Music at Shamrock
DESCRIPTION:At this harbour-side pub on the Paseo Marítimo\, you can enjoy a Guinness and experience the Silvia Fluixà Band with a mix of rock\, funk\, and soul covers. \nImage courtesy of shamrockpalma.com.
URL:https://www.mallorcasunshineradio.com/event/live-music-shamrock-17-nov/
LOCATION:Shamrock Palma\, Shamrock Palma. Av. de Gabriel Roca\, 3\, Ponent\, Palma\, Illes Balears\, 07014\, Spain
CATEGORIES:Funk,Live Music,Rock,Soul
ATTACH;FMTTYPE=image/jpeg:https://www.mallorcasunshineradio.com/wp-content/uploads/Live_Music_at_Shamrock_1411x804_001.jpeg
END:VEVENT
END:VCALENDAR