BEGIN:VCALENDAR
VERSION:2.0
PRODID:-//Mallorca Sunshine Radio - ECPv6.15.20//NONSGML v1.0//EN
CALSCALE:GREGORIAN
METHOD:PUBLISH
X-ORIGINAL-URL:https://www.mallorcasunshineradio.com
X-WR-CALDESC:Events for Mallorca Sunshine Radio
REFRESH-INTERVAL;VALUE=DURATION:PT1H
X-Robots-Tag:noindex
X-PUBLISHED-TTL:PT1H
BEGIN:VTIMEZONE
TZID:Europe/Madrid
BEGIN:DAYLIGHT
TZOFFSETFROM:+0100
TZOFFSETTO:+0200
TZNAME:CEST
DTSTART:20250330T010000
END:DAYLIGHT
BEGIN:STANDARD
TZOFFSETFROM:+0200
TZOFFSETTO:+0100
TZNAME:CET
DTSTART:20251026T010000
END:STANDARD
BEGIN:DAYLIGHT
TZOFFSETFROM:+0100
TZOFFSETTO:+0200
TZNAME:CEST
DTSTART:20260329T010000
END:DAYLIGHT
BEGIN:STANDARD
TZOFFSETFROM:+0200
TZOFFSETTO:+0100
TZNAME:CET
DTSTART:20261025T010000
END:STANDARD
BEGIN:DAYLIGHT
TZOFFSETFROM:+0100
TZOFFSETTO:+0200
TZNAME:CEST
DTSTART:20270328T010000
END:DAYLIGHT
BEGIN:STANDARD
TZOFFSETFROM:+0200
TZOFFSETTO:+0100
TZNAME:CET
DTSTART:20271031T010000
END:STANDARD
END:VTIMEZONE
BEGIN:VEVENT
DTSTART;TZID=Europe/Madrid:20260327T160000
DTEND;TZID=Europe/Madrid:20260327T160000
DTSTAMP:20260424T175947
CREATED:20260305T122242Z
LAST-MODIFIED:20260305T122419Z
UID:16730-1774627200-1774627200@www.mallorcasunshineradio.com
SUMMARY:El Gran Sarao @ Parc de la Mar Palma
DESCRIPTION:With the DJs AINA LOSANGE and ELIAS + CALDERON
URL:https://www.mallorcasunshineradio.com/event/el-gran-sarao-parc-de-la-mar-palma/
LOCATION:Parc de la Mar\, Paseo Maritimo\, Palma\, Illes Balears\, 07001\, Spain
CATEGORIES:Dance,DJ,Festival,House,Techno
ATTACH;FMTTYPE=image/jpeg:https://www.mallorcasunshineradio.com/wp-content/uploads/seasononfest-27032026.jpg
END:VEVENT
BEGIN:VEVENT
DTSTART;TZID=Europe/Madrid:20260328T160000
DTEND;TZID=Europe/Madrid:20260328T160000
DTSTAMP:20260424T175947
CREATED:20260305T122802Z
LAST-MODIFIED:20260305T122808Z
UID:16737-1774713600-1774713600@www.mallorcasunshineradio.com
SUMMARY:MALLORCA ON SEASON FEST @ Parc de la Mar Palma
DESCRIPTION:Feat. SEXY ZEBRAS\, SOBREZERO and Palma DJs SIDEWAYS and VËNKMAN
URL:https://www.mallorcasunshineradio.com/event/mallorca-on-season-fest-parc-de-la-mar-palma/
LOCATION:Parc de la Mar\, Paseo Maritimo\, Palma\, Illes Balears\, 07001\, Spain
CATEGORIES:DJ,Festival,Music,Techno
ATTACH;FMTTYPE=image/jpeg:https://www.mallorcasunshineradio.com/wp-content/uploads/seasononfest-28032026.jpg
END:VEVENT
BEGIN:VEVENT
DTSTART;TZID=Europe/Madrid:20260329T090000
DTEND;TZID=Europe/Madrid:20260329T090000
DTSTAMP:20260424T175947
CREATED:20260327T151252Z
LAST-MODIFIED:20260327T151324Z
UID:17029-1774774800-1774774800@www.mallorcasunshineradio.com
SUMMARY:MALLORCA ON SEASON FEST Day 3 @ Parc de la Mar Palma
DESCRIPTION:From 12 am to 3 pm ON SEASON VERMUT with live music by THE RIPPLES\, NEGRE and KOMODO GARCIA.  \nFrom 3.45 pm til 12 as YÛGEN FESTIVAL with the DJs MANDA MOOR\, NICK CURLY\, ALEX CARO\, CESAR DEL RIO\, ISAAC INDART\, JLEONEL\, SOTE DE LINO\, SYNTONIQUE and THOMAS PATRIK.
URL:https://www.mallorcasunshineradio.com/event/mallorca-on-season-fest-parc-de-la-mar-palma-2/
LOCATION:Parc de la Mar\, Paseo Maritimo\, Palma\, Illes Balears\, 07001\, Spain
CATEGORIES:DJ,Festival,Live DJ,Live Music,Music,Techno
ATTACH;FMTTYPE=image/jpeg:https://www.mallorcasunshineradio.com/wp-content/uploads/seasononfest-29032026.jpg
END:VEVENT
END:VCALENDAR