BEGIN:VCALENDAR
VERSION:2.0
PRODID:-//Mallorca Sunshine Radio - ECPv6.15.20//NONSGML v1.0//EN
CALSCALE:GREGORIAN
METHOD:PUBLISH
X-WR-CALNAME:Mallorca Sunshine Radio
X-ORIGINAL-URL:https://www.mallorcasunshineradio.com
X-WR-CALDESC:Events for Mallorca Sunshine Radio
REFRESH-INTERVAL;VALUE=DURATION:PT1H
X-Robots-Tag:noindex
X-PUBLISHED-TTL:PT1H
BEGIN:VTIMEZONE
TZID:Europe/Madrid
BEGIN:DAYLIGHT
TZOFFSETFROM:+0100
TZOFFSETTO:+0200
TZNAME:CEST
DTSTART:20240331T010000
END:DAYLIGHT
BEGIN:STANDARD
TZOFFSETFROM:+0200
TZOFFSETTO:+0100
TZNAME:CET
DTSTART:20241027T010000
END:STANDARD
BEGIN:DAYLIGHT
TZOFFSETFROM:+0100
TZOFFSETTO:+0200
TZNAME:CEST
DTSTART:20250330T010000
END:DAYLIGHT
BEGIN:STANDARD
TZOFFSETFROM:+0200
TZOFFSETTO:+0100
TZNAME:CET
DTSTART:20251026T010000
END:STANDARD
BEGIN:DAYLIGHT
TZOFFSETFROM:+0100
TZOFFSETTO:+0200
TZNAME:CEST
DTSTART:20260329T010000
END:DAYLIGHT
BEGIN:STANDARD
TZOFFSETFROM:+0200
TZOFFSETTO:+0100
TZNAME:CET
DTSTART:20261025T010000
END:STANDARD
BEGIN:DAYLIGHT
TZOFFSETFROM:+0100
TZOFFSETTO:+0200
TZNAME:CEST
DTSTART:20270328T010000
END:DAYLIGHT
BEGIN:STANDARD
TZOFFSETFROM:+0200
TZOFFSETTO:+0100
TZNAME:CET
DTSTART:20271031T010000
END:STANDARD
END:VTIMEZONE
BEGIN:VEVENT
DTSTART;TZID=Europe/Madrid:20260314T210000
DTEND;TZID=Europe/Madrid:20260314T210000
DTSTAMP:20260424T165304
CREATED:20260308T222437Z
LAST-MODIFIED:20260308T222437Z
UID:16775-1773522000-1773522000@www.mallorcasunshineradio.com
SUMMARY:The Other Side – Pink Floyd Tribute Show in Palma
DESCRIPTION:The renowned band “The Other Side” presents the greatest hits of Pink Floyd at the Auditorium in Palma. \nImage credit: neverlandconcerts.com
URL:https://www.mallorcasunshineradio.com/event/the-other-side-pink-floyd-tribute-show-auditorium-palma/
LOCATION:Auditorium Palma\, Auditorium de Palma de Mallorca. Av. de Gabriel Roca\, 18\, Palma\, Illes Balears\, 07014\, Spain
CATEGORIES:Music,Rock,Tribute
ATTACH;FMTTYPE=image/webp:https://www.mallorcasunshineradio.com/wp-content/uploads/The_Other_Side.webp
ORGANIZER;CN="Auditorium Palma de Mallorca":MAILTO:info@auditoriumpalma.com
END:VEVENT
BEGIN:VEVENT
DTSTART;TZID=Europe/Madrid:20260313T190000
DTEND;TZID=Europe/Madrid:20260313T190000
DTSTAMP:20260424T165304
CREATED:20260312T173553Z
LAST-MODIFIED:20260312T173553Z
UID:16826-1773428400-1773428400@www.mallorcasunshineradio.com
SUMMARY:Nirvana Tribute with The Buzz Lovers at Es Gremi in Palma
DESCRIPTION:The Buzz Lovers bring Nirvana back to the stage live — loud\, raw and emotional. \nImage credit: esgremi.com
URL:https://www.mallorcasunshineradio.com/event/buzz-lovers-nirvana-tribute-es-gremi-palma/
LOCATION:Es Gremi\, Es Gremi. Gremi de Porgadors\, 16\, Palma\, Balearic Islands\, 07009\, Spain
CATEGORIES:Live Music,Music,Tribute
ATTACH;FMTTYPE=image/jpeg:https://www.mallorcasunshineradio.com/wp-content/uploads/01_Web_Banner_TheBuzzLovers.jpg
ORGANIZER;CN="Es Gremi":MAILTO:info@esgremi.com
END:VEVENT
BEGIN:VEVENT
DTSTART;TZID=Europe/Madrid:20260220T190000
DTEND;TZID=Europe/Madrid:20260220T190000
DTSTAMP:20260424T165304
CREATED:20260121T143504Z
LAST-MODIFIED:20260121T143508Z
UID:16242-1771614000-1771614000@www.mallorcasunshineradio.com
SUMMARY:GREAT STRAITS - Dire Straits Tribute @ Auditorium Palma
DESCRIPTION:Who hasn’t heard “Sultans of Swing\,” “Romeo and Juliet\,” “Brothers in Arms\,” ​​”Tunnel of Love\,” or “Money for Nothing” by Dire Straits?  \n“The Great Songs of Dire Straits” is the new musical show by Óscar Rosende and his new band\, Great Straits\, a tribute to the successful musical career of Dire Straits. A true sonic journey awaits\, allowing you to once again enjoy the magic of all the greatest hits composed by Mark Knopfler live\, with a unique stage production in Europe\, nine excellent musicians on stage\, and the expertise of Óscar Rosende\, a guitarist from A Coruña who once confused the Scottish musician and his band. In the words of Guy Fletcher (keyboardist for Dire Straits): “He was playing ‘Why Aye Man\,’ and I have to say I thought it was one of our recordings.”
URL:https://www.mallorcasunshineradio.com/event/great-straits-dire-straits-tribute-auditorium-palma/
LOCATION:Auditorium Palma\, Auditorium de Palma de Mallorca. Av. de Gabriel Roca\, 18\, Palma\, Illes Balears\, 07014\, Spain
CATEGORIES:Concert,Live Music,Pop,Rock,Tribute
ATTACH;FMTTYPE=image/jpeg:https://www.mallorcasunshineradio.com/wp-content/uploads/espectaculo-4182-imagen-cabecera-4.jpg
ORGANIZER;CN="Auditorium Palma de Mallorca":MAILTO:info@auditoriumpalma.com
END:VEVENT
BEGIN:VEVENT
DTSTART;TZID=Europe/Madrid:20260117T200000
DTEND;TZID=Europe/Madrid:20260117T200000
DTSTAMP:20260424T165304
CREATED:20251210T133909Z
LAST-MODIFIED:20251210T133909Z
UID:15864-1768680000-1768680000@www.mallorcasunshineradio.com
SUMMARY:This Is Michael – Michael Jackson Tribute in Palma
DESCRIPTION:Auditorium Palma hosts This Is Michael\, a high-energy tribute show celebrating the greatest hits of Michael Jackson. \nWith live band\, dancers\, dynamic choreography and an impressive impersonator\, the evening brings classics like Thriller\, Billie Jean and Beat It back to the stage. \nImage credit: auditoriumpalma.koobin.com
URL:https://www.mallorcasunshineradio.com/event/this-is-michael-jackson-tribute-palma-2026/
LOCATION:Auditorium Palma\, Auditorium de Palma de Mallorca. Av. de Gabriel Roca\, 18\, Palma\, Illes Balears\, 07014\, Spain
CATEGORIES:Concert,Pop,Tribute
ATTACH;FMTTYPE=image/jpeg:https://www.mallorcasunshineradio.com/wp-content/uploads/michael_jackson.jpg
ORGANIZER;CN="Auditorium Palma de Mallorca":MAILTO:info@auditoriumpalma.com
END:VEVENT
BEGIN:VEVENT
DTSTART;TZID=Europe/Madrid:20251120T210000
DTEND;TZID=Europe/Madrid:20251120T210000
DTSTAMP:20260424T165304
CREATED:20251107T230258Z
LAST-MODIFIED:20251109T150451Z
UID:15208-1763672400-1763672400@www.mallorcasunshineradio.com
SUMMARY:Michael Jackson Show @ Trui Teatre Palma
DESCRIPTION:At the Trui Theater in Palma\, you can experience “This is Michael” — a spectacular show in honour of Michael Jackson. \nAlso performing is his former guitarist Jennifer Batten. \nImage: truiteatre.es
URL:https://www.mallorcasunshineradio.com/event/michael-jackson-show-trui-theater/
LOCATION:Trui Teatre\, Palma\, Trui Teatre. Cami Son Rapinya 29\, Palma Mallorca\, Illes Balears\, 0713\, Spain
CATEGORIES:Live Music,Show,Tribute
ATTACH;FMTTYPE=image/jpeg:https://www.mallorcasunshineradio.com/wp-content/uploads/this_is_michael.jpg
END:VEVENT
END:VCALENDAR