BEGIN:VCALENDAR
VERSION:2.0
PRODID:-//Mallorca Sunshine Radio - ECPv6.15.20//NONSGML v1.0//EN
CALSCALE:GREGORIAN
METHOD:PUBLISH
X-WR-CALNAME:Mallorca Sunshine Radio
X-ORIGINAL-URL:https://www.mallorcasunshineradio.com
X-WR-CALDESC:Events for Mallorca Sunshine Radio
REFRESH-INTERVAL;VALUE=DURATION:PT1H
X-Robots-Tag:noindex
X-PUBLISHED-TTL:PT1H
BEGIN:VTIMEZONE
TZID:Europe/Madrid
BEGIN:DAYLIGHT
TZOFFSETFROM:+0100
TZOFFSETTO:+0200
TZNAME:CEST
DTSTART:20190331T010000
END:DAYLIGHT
BEGIN:STANDARD
TZOFFSETFROM:+0200
TZOFFSETTO:+0100
TZNAME:CET
DTSTART:20191027T010000
END:STANDARD
BEGIN:DAYLIGHT
TZOFFSETFROM:+0100
TZOFFSETTO:+0200
TZNAME:CEST
DTSTART:20200329T010000
END:DAYLIGHT
BEGIN:STANDARD
TZOFFSETFROM:+0200
TZOFFSETTO:+0100
TZNAME:CET
DTSTART:20201025T010000
END:STANDARD
BEGIN:DAYLIGHT
TZOFFSETFROM:+0100
TZOFFSETTO:+0200
TZNAME:CEST
DTSTART:20210328T010000
END:DAYLIGHT
BEGIN:STANDARD
TZOFFSETFROM:+0200
TZOFFSETTO:+0100
TZNAME:CET
DTSTART:20211031T010000
END:STANDARD
END:VTIMEZONE
BEGIN:VEVENT
DTSTART;TZID=Europe/Madrid:20201114T203000
DTEND;TZID=Europe/Madrid:20201114T223000
DTSTAMP:20260421T145700
CREATED:20201109T140556Z
LAST-MODIFIED:20201109T140648Z
UID:10517-1605385800-1605393000@www.mallorcasunshineradio.com
SUMMARY:13. Jazz Voyeur Festival - Maria del Mar Bonet
DESCRIPTION:Maria del Mar Bonet & Big Band Begues – Dir. Musical Toni Cuenca
URL:https://www.mallorcasunshineradio.com/event/13-jazz-voyeur-festival-maria-del-mar-bonet/
LOCATION:Son Amar
CATEGORIES:Festival,Music
ATTACH;FMTTYPE=image/jpeg:https://www.mallorcasunshineradio.com/wp-content/uploads/CARTEL-COMPLETO-JVF-CUBO-1.jpg
ORGANIZER;CN="Jazz Voyeur Festival":MAILTO:prensa@contemporaneamusic.com
END:VEVENT
BEGIN:VEVENT
DTSTART;TZID=Europe/Madrid:20201121T203000
DTEND;TZID=Europe/Madrid:20201121T223000
DTSTAMP:20260421T145700
CREATED:20201109T141031Z
LAST-MODIFIED:20201109T141031Z
UID:10521-1605990600-1605997800@www.mallorcasunshineradio.com
SUMMARY:13. Jazz Voyeur Festival - Dulce Pontes
DESCRIPTION:Dulce Pontes – PORTUGUESA CON ALMA DEL MUNDO. ARTISTA INVITADO: SONAKAI TRIO
URL:https://www.mallorcasunshineradio.com/event/13-jazz-voyeur-festival-dulce-pontes/
LOCATION:Trui Teatre\, Palma\, Trui Teatre. Cami Son Rapinya 29\, Palma Mallorca\, Illes Balears\, 0713\, Spain
CATEGORIES:Festival,Music
ATTACH;FMTTYPE=image/jpeg:https://www.mallorcasunshineradio.com/wp-content/uploads/CARTEL-COMPLETO-JVF-CUBO-1.jpg
ORGANIZER;CN="Jazz Voyeur Festival":MAILTO:prensa@contemporaneamusic.com
END:VEVENT
BEGIN:VEVENT
DTSTART;TZID=Europe/Madrid:20201125T110000
DTEND;TZID=Europe/Madrid:20201129T220000
DTSTAMP:20260421T145700
CREATED:20201123T100536Z
LAST-MODIFIED:20201123T100536Z
UID:10533-1606302000-1606687200@www.mallorcasunshineradio.com
SUMMARY:TaPalma 2020
DESCRIPTION:Ruta de Tapas y Cocteles en Palma.
URL:https://www.mallorcasunshineradio.com/event/tapalma-2020/
LOCATION:Balearic Islands
CATEGORIES:Food
ATTACH;FMTTYPE=image/jpeg:https://www.mallorcasunshineradio.com/wp-content/uploads/IMG_2381-1.jpg
ORGANIZER;CN="TaPalma":MAILTO:tapalma@agenciacom.com
END:VEVENT
BEGIN:VEVENT
DTSTART;TZID=Europe/Madrid:20201128T203000
DTEND;TZID=Europe/Madrid:20201128T223000
DTSTAMP:20260421T145700
CREATED:20201109T141412Z
LAST-MODIFIED:20201109T141412Z
UID:10523-1606595400-1606602600@www.mallorcasunshineradio.com
SUMMARY:13. Jazz Voyeur Festival - Marco Mezquida
DESCRIPTION:Marco Mezquida presenta Talisman – artista invitado Ermanno Panta & Banda Zeitun 
URL:https://www.mallorcasunshineradio.com/event/13-jazz-voyeur-festival-marco-mezquida/
LOCATION:Trui Teatre\, Palma\, Trui Teatre. Cami Son Rapinya 29\, Palma Mallorca\, Illes Balears\, 0713\, Spain
CATEGORIES:Festival,Music
ATTACH;FMTTYPE=image/jpeg:https://www.mallorcasunshineradio.com/wp-content/uploads/CARTEL-COMPLETO-JVF-CUBO-1.jpg
ORGANIZER;CN="Jazz Voyeur Festival":MAILTO:prensa@contemporaneamusic.com
END:VEVENT
END:VCALENDAR