BEGIN:VCALENDAR
VERSION:2.0
PRODID:-//Mallorca Sunshine Radio - ECPv6.15.20//NONSGML v1.0//EN
CALSCALE:GREGORIAN
METHOD:PUBLISH
X-ORIGINAL-URL:https://www.mallorcasunshineradio.com
X-WR-CALDESC:Events for Mallorca Sunshine Radio
REFRESH-INTERVAL;VALUE=DURATION:PT1H
X-Robots-Tag:noindex
X-PUBLISHED-TTL:PT1H
BEGIN:VTIMEZONE
TZID:Europe/Madrid
BEGIN:DAYLIGHT
TZOFFSETFROM:+0100
TZOFFSETTO:+0200
TZNAME:CEST
DTSTART:20200329T010000
END:DAYLIGHT
BEGIN:STANDARD
TZOFFSETFROM:+0200
TZOFFSETTO:+0100
TZNAME:CET
DTSTART:20201025T010000
END:STANDARD
BEGIN:DAYLIGHT
TZOFFSETFROM:+0100
TZOFFSETTO:+0200
TZNAME:CEST
DTSTART:20210328T010000
END:DAYLIGHT
BEGIN:STANDARD
TZOFFSETFROM:+0200
TZOFFSETTO:+0100
TZNAME:CET
DTSTART:20211031T010000
END:STANDARD
BEGIN:DAYLIGHT
TZOFFSETFROM:+0100
TZOFFSETTO:+0200
TZNAME:CEST
DTSTART:20220327T010000
END:DAYLIGHT
BEGIN:STANDARD
TZOFFSETFROM:+0200
TZOFFSETTO:+0100
TZNAME:CET
DTSTART:20221030T010000
END:STANDARD
END:VTIMEZONE
BEGIN:VEVENT
DTSTART;TZID=Europe/Madrid:20210723T180000
DTEND;TZID=Europe/Madrid:20210723T213000
DTSTAMP:20260420T182459
CREATED:20210721T225319Z
LAST-MODIFIED:20210721T225319Z
UID:10598-1627063200-1627075800@www.mallorcasunshineradio.com
SUMMARY:ZAHARA - MallorcaLive Summer
DESCRIPTION:
URL:https://www.mallorcasunshineradio.com/event/zahara-mallorcalive-summer/
LOCATION:Antiguo Aquapark de Calviá\, Carretera Cala Figuera a Sa Porrasa\, Magaluf/Mallorca\, Baleares\, 07181\, Spain
CATEGORIES:Concert,Music
ATTACH;FMTTYPE=image/png:https://www.mallorcasunshineradio.com/wp-content/uploads/zahara-mallorca-live-summer.png
ORGANIZER;CN="MallorcaLive Festival":MAILTO:info@mallorcalivefestival.com
END:VEVENT
BEGIN:VEVENT
DTSTART;TZID=Europe/Madrid:20210728T200000
DTEND;TZID=Europe/Madrid:20210728T213000
DTSTAMP:20260420T182459
CREATED:20210721T230107Z
LAST-MODIFIED:20210721T230107Z
UID:10605-1627502400-1627507800@www.mallorcasunshineradio.com
SUMMARY:Vetusta Morla - Mallorca Live Summer
DESCRIPTION:
URL:https://www.mallorcasunshineradio.com/event/vetusta-morla-mallorca-live-summer/
LOCATION:Antiguo Aquapark de Calviá\, Carretera Cala Figuera a Sa Porrasa\, Magaluf/Mallorca\, Baleares\, 07181\, Spain
CATEGORIES:Concert,Music
ATTACH;FMTTYPE=image/png:https://www.mallorcasunshineradio.com/wp-content/uploads/vetusta-morla-mallorca-live.png
ORGANIZER;CN="MallorcaLive Festival":MAILTO:info@mallorcalivefestival.com
END:VEVENT
BEGIN:VEVENT
DTSTART;TZID=Europe/Madrid:20210730T180000
DTEND;TZID=Europe/Madrid:20210730T213000
DTSTAMP:20260420T182459
CREATED:20210721T225710Z
LAST-MODIFIED:20210721T225747Z
UID:10601-1627668000-1627680600@www.mallorcasunshineradio.com
SUMMARY:Raphael - Mallorca Live Summer
DESCRIPTION:
URL:https://www.mallorcasunshineradio.com/event/raphael-mallorca-live-summer/
LOCATION:Antiguo Aquapark de Calviá\, Carretera Cala Figuera a Sa Porrasa\, Magaluf/Mallorca\, Baleares\, 07181\, Spain
CATEGORIES:Concert,Music
ATTACH;FMTTYPE=image/png:https://www.mallorcasunshineradio.com/wp-content/uploads/raphael-mallorca-live-summer.png
ORGANIZER;CN="MallorcaLive Festival":MAILTO:info@mallorcalivefestival.com
END:VEVENT
END:VCALENDAR