BEGIN:VCALENDAR
VERSION:2.0
PRODID:-//Mallorca Sunshine Radio - ECPv6.15.20//NONSGML v1.0//EN
CALSCALE:GREGORIAN
METHOD:PUBLISH
X-ORIGINAL-URL:https://www.mallorcasunshineradio.com
X-WR-CALDESC:Events for Mallorca Sunshine Radio
REFRESH-INTERVAL;VALUE=DURATION:PT1H
X-Robots-Tag:noindex
X-PUBLISHED-TTL:PT1H
BEGIN:VTIMEZONE
TZID:Europe/Madrid
BEGIN:DAYLIGHT
TZOFFSETFROM:+0100
TZOFFSETTO:+0200
TZNAME:CEST
DTSTART:20200329T010000
END:DAYLIGHT
BEGIN:STANDARD
TZOFFSETFROM:+0200
TZOFFSETTO:+0100
TZNAME:CET
DTSTART:20201025T010000
END:STANDARD
BEGIN:DAYLIGHT
TZOFFSETFROM:+0100
TZOFFSETTO:+0200
TZNAME:CEST
DTSTART:20210328T010000
END:DAYLIGHT
BEGIN:STANDARD
TZOFFSETFROM:+0200
TZOFFSETTO:+0100
TZNAME:CET
DTSTART:20211031T010000
END:STANDARD
BEGIN:DAYLIGHT
TZOFFSETFROM:+0100
TZOFFSETTO:+0200
TZNAME:CEST
DTSTART:20220327T010000
END:DAYLIGHT
BEGIN:STANDARD
TZOFFSETFROM:+0200
TZOFFSETTO:+0100
TZNAME:CET
DTSTART:20221030T010000
END:STANDARD
END:VTIMEZONE
BEGIN:VEVENT
DTSTART;TZID=Europe/Madrid:20211106T190000
DTEND;TZID=Europe/Madrid:20211106T223000
DTSTAMP:20260420T112956
CREATED:20211026T112547Z
LAST-MODIFIED:20211026T112547Z
UID:10647-1636225200-1636237800@www.mallorcasunshineradio.com
SUMMARY:14. Jazz Voyeur Festival - MARIA DEL MAR BONET
DESCRIPTION:Special guest: BIG BAND BEGUES
URL:https://www.mallorcasunshineradio.com/event/14-jazz-voyeur-festival-maria-del-mar-bonet/
LOCATION:Son Amar
CATEGORIES:Concert,Festival,Music
ATTACH;FMTTYPE=image/png:https://www.mallorcasunshineradio.com/wp-content/uploads/PORTADA-EVENTO-FB-MBONET.png
ORGANIZER;CN="Jazz Voyeur Festival":MAILTO:prensa@contemporaneamusic.com
END:VEVENT
BEGIN:VEVENT
DTSTART;TZID=Europe/Madrid:20211113T190000
DTEND;TZID=Europe/Madrid:20211113T223000
DTSTAMP:20260420T112956
CREATED:20211011T170327Z
LAST-MODIFIED:20211108T142307Z
UID:10629-1636830000-1636842600@www.mallorcasunshineradio.com
SUMMARY:Contrallum Sineu
DESCRIPTION:Night of lights and heritage in the wonderful oldtown of Sineu.
URL:https://www.mallorcasunshineradio.com/event/contrallum-sineu-3/
LOCATION:Ajuntament Sineu\, Carrer de Sant Francesc\, 10\, Sineu\, Illes Balears\, 07510\, Spain
CATEGORIES:Culture
ATTACH;FMTTYPE=image/jpeg:https://www.mallorcasunshineradio.com/wp-content/uploads/contrallum2021_poster_web.jpg
ORGANIZER;CN="Contrallum Sineu":MAILTO:contrallum.contrallum@gmail.com
END:VEVENT
BEGIN:VEVENT
DTSTART;TZID=Europe/Madrid:20211113T200000
DTEND;TZID=Europe/Madrid:20211113T220000
DTSTAMP:20260420T112956
CREATED:20211108T143133Z
LAST-MODIFIED:20211108T143239Z
UID:10661-1636833600-1636840800@www.mallorcasunshineradio.com
SUMMARY:Lorca que te quiero lorca
DESCRIPTION:
URL:https://www.mallorcasunshineradio.com/event/lorca-que-te-quiero-lorca/
LOCATION:Espai Teatritx Inca\, Avda. Antoni Maura\, 168\, Inca\, Balearic Islands\, 07300\, Spain
CATEGORIES:Theatre
ATTACH;FMTTYPE=image/jpeg:https://www.mallorcasunshineradio.com/wp-content/uploads/WhatsApp-Image-2021-11-07-at-4.18.19-PM-1.jpeg
ORGANIZER;CN="Espai Teatritx":MAILTO:teatritx@gmail.com
END:VEVENT
BEGIN:VEVENT
DTSTART;TZID=Europe/Madrid:20211114T130000
DTEND;TZID=Europe/Madrid:20211114T160000
DTSTAMP:20260420T112956
CREATED:20211112T173121Z
LAST-MODIFIED:20211112T173121Z
UID:10682-1636894800-1636905600@www.mallorcasunshineradio.com
SUMMARY:Swing It Mallorca Live
DESCRIPTION:
URL:https://www.mallorcasunshineradio.com/event/swing-it-mallorca-live/
LOCATION:Santapi Garden\, Av. Antoni Maura\, 42\, Marratxi\, Balearic Islands\, 07141\, Spain
CATEGORIES:Food,Music
ATTACH;FMTTYPE=image/jpeg:https://www.mallorcasunshineradio.com/wp-content/uploads/WhatsApp-Image-2021-11-09-at-10.33.31-PM.jpeg
END:VEVENT
BEGIN:VEVENT
DTSTART;TZID=Europe/Madrid:20211120T200000
DTEND;TZID=Europe/Madrid:20211120T220000
DTSTAMP:20260420T112956
CREATED:20211108T143314Z
LAST-MODIFIED:20211108T143314Z
UID:10667-1637438400-1637445600@www.mallorcasunshineradio.com
SUMMARY:Lorca que te quiero lorca
DESCRIPTION:
URL:https://www.mallorcasunshineradio.com/event/lorca-que-te-quiero-lorca-2/
LOCATION:Espai Teatritx Inca\, Avda. Antoni Maura\, 168\, Inca\, Balearic Islands\, 07300\, Spain
CATEGORIES:Theatre
ATTACH;FMTTYPE=image/jpeg:https://www.mallorcasunshineradio.com/wp-content/uploads/WhatsApp-Image-2021-11-07-at-4.18.19-PM-1.jpeg
ORGANIZER;CN="Espai Teatritx":MAILTO:teatritx@gmail.com
END:VEVENT
BEGIN:VEVENT
DTSTART;VALUE=DATE:20211124
DTEND;VALUE=DATE:20211129
DTSTAMP:20260420T112956
CREATED:20211112T172627Z
LAST-MODIFIED:20211112T172627Z
UID:10678-1637715600-1638147599@www.mallorcasunshineradio.com
SUMMARY:TaPalma 2021
DESCRIPTION:
URL:https://www.mallorcasunshineradio.com/event/tapalma-2021/
LOCATION:City of Palma\, Palma\, Balearic Islands\, 07002\, Spain
CATEGORIES:Festival,Food
ATTACH;FMTTYPE=image/jpeg:https://www.mallorcasunshineradio.com/wp-content/uploads/Web-TaPalma-2021-2.jpg
ORGANIZER;CN="TaPalma":MAILTO:tapalma@agenciacom.com
END:VEVENT
BEGIN:VEVENT
DTSTART;TZID=Europe/Madrid:20211126T203000
DTEND;TZID=Europe/Madrid:20211126T223000
DTSTAMP:20260420T112956
CREATED:20211123T173535Z
LAST-MODIFIED:20211123T173622Z
UID:10712-1637958600-1637965800@www.mallorcasunshineradio.com
SUMMARY:Alternatilla Jazz In Mallorca 2021 - MAYTE ALGUACIL & TRIO
DESCRIPTION:
URL:https://www.mallorcasunshineradio.com/event/alternatilla-jazz-in-mallorca-2021-mayte-alguacil-trio/
LOCATION:Espai 36\, Sant Llorenç des Cardassar\, Balearic Islands\, Spain
CATEGORIES:Concert,Festival,Music
ATTACH;FMTTYPE=image/jpeg:https://www.mallorcasunshineradio.com/wp-content/uploads/AJIM21-web-Mayte-Alguacil_.jpg
ORGANIZER;CN="Alternatilla":MAILTO:info@alternatilla.com
END:VEVENT
BEGIN:VEVENT
DTSTART;TZID=Europe/Madrid:20211127T190000
DTEND;TZID=Europe/Madrid:20211127T223000
DTSTAMP:20260420T112956
CREATED:20211026T112812Z
LAST-MODIFIED:20211026T112812Z
UID:10650-1638039600-1638052200@www.mallorcasunshineradio.com
SUMMARY:14. Jazz Voyeur Festival - POWER UP ORCHESTRA
DESCRIPTION:
URL:https://www.mallorcasunshineradio.com/event/14-jazz-voyeur-festival-power-up-orchestra/
LOCATION:Son Amar
CATEGORIES:Concert,Festival,Music
ATTACH;FMTTYPE=image/png:https://www.mallorcasunshineradio.com/wp-content/uploads/PORTADA-EVENTO-FB-POWERUP.png
ORGANIZER;CN="Jazz Voyeur Festival":MAILTO:prensa@contemporaneamusic.com
END:VEVENT
BEGIN:VEVENT
DTSTART;TZID=Europe/Madrid:20211127T200000
DTEND;TZID=Europe/Madrid:20211127T223000
DTSTAMP:20260420T112956
CREATED:20211123T174034Z
LAST-MODIFIED:20211123T174034Z
UID:10717-1638043200-1638052200@www.mallorcasunshineradio.com
SUMMARY:Alternatilla Jazz In Mallorca 2021 - Ménage à jazz
DESCRIPTION:Ménage à jazz: AJIM21 V1 \nJorge Vistel\, trompeta.\nPere Bujosa\, contrabaix.\nGianni Gagliardi\, saxo.\nJoan Moll\, bateria.
URL:https://www.mallorcasunshineradio.com/event/alternatilla-jazz-in-mallorca-2021-menage-a-jazz/
LOCATION:Teatre Municipal Xesc Forteza\, Teatro Xesc Forteza. Carrer de la Calatrava\, 1\, Centre\, Palma\, Balearic Islands\, 07001\, Spain
CATEGORIES:Concert,Festival,Music
ATTACH;FMTTYPE=image/jpeg:https://www.mallorcasunshineradio.com/wp-content/uploads/AJIM21-web-AJIM21-V1.jpg
ORGANIZER;CN="Alternatilla":MAILTO:info@alternatilla.com
END:VEVENT
BEGIN:VEVENT
DTSTART;TZID=Europe/Madrid:20211128T190000
DTEND;TZID=Europe/Madrid:20211128T223000
DTSTAMP:20260420T112956
CREATED:20211026T112952Z
LAST-MODIFIED:20211026T112952Z
UID:10653-1638126000-1638138600@www.mallorcasunshineradio.com
SUMMARY:14. Jazz Voyeur Festival - CHARLES LLOYD
DESCRIPTION:
URL:https://www.mallorcasunshineradio.com/event/14-jazz-voyeur-festival-charles-lloyd/
LOCATION:Son Amar
CATEGORIES:Concert,Festival,Music
ATTACH;FMTTYPE=image/png:https://www.mallorcasunshineradio.com/wp-content/uploads/PORTADA-EVENTO-FB-CHARLES-LLOYD.png
ORGANIZER;CN="Jazz Voyeur Festival":MAILTO:prensa@contemporaneamusic.com
END:VEVENT
BEGIN:VEVENT
DTSTART;TZID=Europe/Madrid:20211128T190000
DTEND;TZID=Europe/Madrid:20211128T223000
DTSTAMP:20260420T112956
CREATED:20211123T174444Z
LAST-MODIFIED:20211123T174444Z
UID:10721-1638126000-1638138600@www.mallorcasunshineradio.com
SUMMARY:Alternatilla Jazz In Mallorca 2021 - Roberto Fonseca Trio
DESCRIPTION:Roberto Fonseca\, piano.\nYandy Martínez\, contrabaix.\nRuly Herrera\, bateria. \n\n\n\n\n\n\n\n \n\n\n\n\n\n\n\n\n\n\n\n\n 
URL:https://www.mallorcasunshineradio.com/event/alternatilla-jazz-in-mallorca-2021-roberto-fonseca-trio/
LOCATION:Teatre Principal\, Maó\, Balearic Islands\, Spain
CATEGORIES:Concert,Festival,Music
ATTACH;FMTTYPE=image/jpeg:https://www.mallorcasunshineradio.com/wp-content/uploads/AJIM21-web-Roberto-Fonseca.jpg
ORGANIZER;CN="Alternatilla":MAILTO:info@alternatilla.com
END:VEVENT
END:VCALENDAR