BEGIN:VCALENDAR
VERSION:2.0
PRODID:-//Mallorca Sunshine Radio - ECPv6.15.20//NONSGML v1.0//EN
CALSCALE:GREGORIAN
METHOD:PUBLISH
X-WR-CALNAME:Mallorca Sunshine Radio
X-ORIGINAL-URL:https://www.mallorcasunshineradio.com
X-WR-CALDESC:Events for Mallorca Sunshine Radio
REFRESH-INTERVAL;VALUE=DURATION:PT1H
X-Robots-Tag:noindex
X-PUBLISHED-TTL:PT1H
BEGIN:VTIMEZONE
TZID:Europe/Madrid
BEGIN:DAYLIGHT
TZOFFSETFROM:+0100
TZOFFSETTO:+0200
TZNAME:CEST
DTSTART:20200329T010000
END:DAYLIGHT
BEGIN:STANDARD
TZOFFSETFROM:+0200
TZOFFSETTO:+0100
TZNAME:CET
DTSTART:20201025T010000
END:STANDARD
BEGIN:DAYLIGHT
TZOFFSETFROM:+0100
TZOFFSETTO:+0200
TZNAME:CEST
DTSTART:20210328T010000
END:DAYLIGHT
BEGIN:STANDARD
TZOFFSETFROM:+0200
TZOFFSETTO:+0100
TZNAME:CET
DTSTART:20211031T010000
END:STANDARD
BEGIN:DAYLIGHT
TZOFFSETFROM:+0100
TZOFFSETTO:+0200
TZNAME:CEST
DTSTART:20220327T010000
END:DAYLIGHT
BEGIN:STANDARD
TZOFFSETFROM:+0200
TZOFFSETTO:+0100
TZNAME:CET
DTSTART:20221030T010000
END:STANDARD
END:VTIMEZONE
BEGIN:VEVENT
DTSTART;TZID=Europe/Madrid:20211203T203000
DTEND;TZID=Europe/Madrid:20211203T223000
DTSTAMP:20260420T094523
CREATED:20211123T174939Z
LAST-MODIFIED:20211123T174939Z
UID:10727-1638563400-1638570600@www.mallorcasunshineradio.com
SUMMARY:Alternatilla Jazz In Mallorca 2021 - The Cuban Jazz Syndicate
DESCRIPTION:Pepe Rivero\, piano.\nRaynald Colom\, trompeta.\nAriel Bringuez\, saxo.\nMiryam Latrece\, veu.\nYarel Hernández\, baix.\nMichael Olivera\, bateria. \n\n\n\n\n\n\n\n \n\n\n\n\n\n\n\n\n\n\n\n\n 
URL:https://www.mallorcasunshineradio.com/event/alternatilla-jazz-in-mallorca-2021-the-cuban-jazz-syndicate/
LOCATION:Esglesia de Sant Domingo\, Pollença\, Balearic Islands\, Spain
CATEGORIES:Concert,Festival,Music
ATTACH;FMTTYPE=image/jpeg:https://www.mallorcasunshineradio.com/wp-content/uploads/AJIM21-web-The-Cuban-Jazz-Syndicate.jpg
ORGANIZER;CN="Alternatilla":MAILTO:info@alternatilla.com
END:VEVENT
BEGIN:VEVENT
DTSTART;TZID=Europe/Madrid:20211206T200000
DTEND;TZID=Europe/Madrid:20211206T223000
DTSTAMP:20260420T094523
CREATED:20211123T174555Z
LAST-MODIFIED:20211123T175051Z
UID:10725-1638820800-1638829800@www.mallorcasunshineradio.com
SUMMARY:Alternatilla Jazz In Mallorca 2021 - Roberto Fonseca Trio
DESCRIPTION:Roberto Fonseca\, piano.\nYandy Martínez\, contrabaix.\nRuly Herrera\, bateria. \n\n\n\n\n\n\n\n \n\n\n\n\n\n\n\n\n\n\n\n\n 
URL:https://www.mallorcasunshineradio.com/event/alternatilla-jazz-in-mallorca-2021-roberto-fonseca-trio-2/
LOCATION:Teatre Principal Palma\, Teatro Principal de Palma. Carrer de la Riera\, 2\, Palma\, Mallorca\, 07003
CATEGORIES:Concert,Festival,Music
ATTACH;FMTTYPE=image/jpeg:https://www.mallorcasunshineradio.com/wp-content/uploads/AJIM21-web-Roberto-Fonseca-Palma.jpg
ORGANIZER;CN="Alternatilla":MAILTO:info@alternatilla.com
END:VEVENT
END:VCALENDAR